BEGIN:VCALENDAR
VERSION:2.0
PRODID:-//DFW Craft Shows - ECPv6.15.17.1//NONSGML v1.0//EN
CALSCALE:GREGORIAN
METHOD:PUBLISH
X-ORIGINAL-URL:https://dfwcrafts.com
X-WR-CALDESC:Events for DFW Craft Shows
REFRESH-INTERVAL;VALUE=DURATION:PT1H
X-Robots-Tag:noindex
X-PUBLISHED-TTL:PT1H
BEGIN:VTIMEZONE
TZID:America/Chicago
BEGIN:DAYLIGHT
TZOFFSETFROM:-0600
TZOFFSETTO:-0500
TZNAME:CDT
DTSTART:20240310T080000
END:DAYLIGHT
BEGIN:STANDARD
TZOFFSETFROM:-0500
TZOFFSETTO:-0600
TZNAME:CST
DTSTART:20241103T070000
END:STANDARD
BEGIN:DAYLIGHT
TZOFFSETFROM:-0600
TZOFFSETTO:-0500
TZNAME:CDT
DTSTART:20250309T080000
END:DAYLIGHT
BEGIN:STANDARD
TZOFFSETFROM:-0500
TZOFFSETTO:-0600
TZNAME:CST
DTSTART:20251102T070000
END:STANDARD
BEGIN:DAYLIGHT
TZOFFSETFROM:-0600
TZOFFSETTO:-0500
TZNAME:CDT
DTSTART:20260308T080000
END:DAYLIGHT
BEGIN:STANDARD
TZOFFSETFROM:-0500
TZOFFSETTO:-0600
TZNAME:CST
DTSTART:20261101T070000
END:STANDARD
END:VTIMEZONE
BEGIN:VEVENT
DTSTART;TZID=America/Chicago:20251205T180000
DTEND;TZID=America/Chicago:20251205T210000
DTSTAMP:20260422T085644
CREATED:20250930T042553Z
LAST-MODIFIED:20250930T042734Z
UID:10001909-1764957600-1764968400@dfwcrafts.com
SUMMARY:Twilight Treasures Artisan Farmers Market - Dec
DESCRIPTION:Experience the charm of small businesses! Join us the first Friday of each month\, for an evening of handcrafted treasures\, farm-fresh flavors\, and creative local artisans. Bring your friends\, family\, and besties to this unforgettable twilight event\, featuring food trucks\, live music\, and so much more.
URL:https://dfwcrafts.com/event/mtc-merchant-fairs-3/
LOCATION:The Creative Gathering\, 278 Main St\, Lake Dallas\, TX\, 75065\, United States
CATEGORIES:Handmade Only
GEO:33.1190983;-97.0263821
X-APPLE-STRUCTURED-LOCATION;VALUE=URI;X-ADDRESS=The Creative Gathering 278 Main St Lake Dallas TX 75065 United States;X-APPLE-RADIUS=500;X-TITLE=278 Main St:geo:-97.0263821,33.1190983
END:VEVENT
END:VCALENDAR