BEGIN:VCALENDAR
VERSION:2.0
PRODID:-//DFW Craft Shows - ECPv6.15.17.1//NONSGML v1.0//EN
CALSCALE:GREGORIAN
METHOD:PUBLISH
X-WR-CALNAME:DFW Craft Shows
X-ORIGINAL-URL:https://dfwcrafts.com
X-WR-CALDESC:Events for DFW Craft Shows
REFRESH-INTERVAL;VALUE=DURATION:PT1H
X-Robots-Tag:noindex
X-PUBLISHED-TTL:PT1H
BEGIN:VTIMEZONE
TZID:America/Chicago
BEGIN:DAYLIGHT
TZOFFSETFROM:-0600
TZOFFSETTO:-0500
TZNAME:CDT
DTSTART:20240310T080000
END:DAYLIGHT
BEGIN:STANDARD
TZOFFSETFROM:-0500
TZOFFSETTO:-0600
TZNAME:CST
DTSTART:20241103T070000
END:STANDARD
BEGIN:DAYLIGHT
TZOFFSETFROM:-0600
TZOFFSETTO:-0500
TZNAME:CDT
DTSTART:20250309T080000
END:DAYLIGHT
BEGIN:STANDARD
TZOFFSETFROM:-0500
TZOFFSETTO:-0600
TZNAME:CST
DTSTART:20251102T070000
END:STANDARD
BEGIN:DAYLIGHT
TZOFFSETFROM:-0600
TZOFFSETTO:-0500
TZNAME:CDT
DTSTART:20260308T080000
END:DAYLIGHT
BEGIN:STANDARD
TZOFFSETFROM:-0500
TZOFFSETTO:-0600
TZNAME:CST
DTSTART:20261101T070000
END:STANDARD
END:VTIMEZONE
BEGIN:VEVENT
DTSTART;TZID=America/Chicago:20251113T100000
DTEND;TZID=America/Chicago:20251115T200000
DTSTAMP:20260422T200936
CREATED:20251104T210143Z
LAST-MODIFIED:20251107T035003Z
UID:10001962-1763028000-1763236800@dfwcrafts.com
SUMMARY:Vogt's HOLIDAY! RV Expo & Holiday Market
DESCRIPTION:Save the Date — Vogt’s HOLIDAY! RV Expo at the Gaylord Texan\nGaylord Texan Resort | Grapevine\, TX | Longhorn Exhibit Halls D & E \nGet ready for the biggest RV event of the season! \nExplore 95+ RVs from top manufacturers — Airstream\, Tiffin\, Jayco\, Leisure Travel Vans\, Storyteller\, and more — all indoors at the stunning Gaylord Texan.  Enjoy holiday fun for the whole family! \nComplimentary Family Photos in front of a festive Airstream\nCharity Corner — Build an Operation Christmas Child shoebox & bring a toy for The Salvation Army Toy Drive \nLocal Holiday Market featuring artisan gifts from local vendors.\nRaffles all weekend long \nShow Specials on 2025 models and a first look at 2026 RVs! \nYour holiday adventure starts here! \nRSVP at VogtRV.com for your FREE tickets and a chance to win a $500 Visa Gift Card!
URL:https://dfwcrafts.com/event/vogts-holiday/
LOCATION:Gaylord Texan Longhorn DE\, 1501 Gaylord Trail Longhorn DE\, Grapevine\, TX\, 76051\, United States
CATEGORIES:General Arts & Crafts
ATTACH;FMTTYPE=image/jpeg:https://dfwcrafts.com/wp-content/uploads/2025/11/Vogt-2025-Opt.jpg
GEO:32.9547506;-97.0643062
X-APPLE-STRUCTURED-LOCATION;VALUE=URI;X-ADDRESS=Gaylord Texan Longhorn DE 1501 Gaylord Trail Longhorn DE Grapevine TX 76051 United States;X-APPLE-RADIUS=500;X-TITLE=1501 Gaylord Trail Longhorn DE:geo:-97.0643062,32.9547506
END:VEVENT
BEGIN:VEVENT
DTSTART;TZID=America/Chicago:20251115T090000
DTEND;TZID=America/Chicago:20251115T143000
DTSTAMP:20260422T200936
CREATED:20251017T015305Z
LAST-MODIFIED:20251017T015305Z
UID:10001938-1763197200-1763217000@dfwcrafts.com
SUMMARY:FPC Mesquite Christmas Marketplace
DESCRIPTION:First Presbyterian Church of Mesquite Christmas Marketplace\nThe FPC Women’s Retreat Committee is proud to present the 14th Annual FPC Mesquite Christmas Marketplace. Holiday shopping could not be any easier\, 30 vendors featuring handmade items\, jewelry\, fresh crop pecans\, tamales and special gifts. Get ready to “shop till you drop!”
URL:https://dfwcrafts.com/event/fpc-christmas-marketplace/
LOCATION:First Presbyterian Church of Mesquite\, 1028 S. Belt Line Road (North Parking Lot)\, Mesquite\, TX\, 75149\, United States
CATEGORIES:General Arts & Crafts
ATTACH;FMTTYPE=image/jpeg:https://dfwcrafts.com/wp-content/uploads/2025/10/FPC-Mesquite-Christmas-Marketplace-Flyer-jpeg.jpg
GEO:32.7775331;-96.5973307
X-APPLE-STRUCTURED-LOCATION;VALUE=URI;X-ADDRESS=First Presbyterian Church of Mesquite 1028 S. Belt Line Road (North Parking Lot) Mesquite TX 75149 United States;X-APPLE-RADIUS=500;X-TITLE=1028 S. Belt Line Road (North Parking Lot):geo:-96.5973307,32.7775331
END:VEVENT
BEGIN:VEVENT
DTSTART;TZID=America/Chicago:20251115T090000
DTEND;TZID=America/Chicago:20251115T150000
DTSTAMP:20260422T200936
CREATED:20250928T042145Z
LAST-MODIFIED:20250928T042145Z
UID:10001894-1763197200-1763218800@dfwcrafts.com
SUMMARY:Holly Daze Craft Show
DESCRIPTION:Come celebrate with us for the 30th Annual Holly Daze Craft Show. We have vendors displaying hand crafted items including woodwork\, pottery\, knitted and crocheted items\, and many other items. We also have snacks and lunch available on site.
URL:https://dfwcrafts.com/event/holly-daze-craft-show/
LOCATION:Arlington Heights United Methodist Church\, 4200 Camp Bowie Boulevard\, Fort Worth\, TX\, 76107\, United States
CATEGORIES:Handmade Only
ATTACH;FMTTYPE=image/jpeg:https://dfwcrafts.com/wp-content/uploads/2025/09/Holly-Daze-Opt.jpg
GEO:32.7438199;-97.3805465
X-APPLE-STRUCTURED-LOCATION;VALUE=URI;X-ADDRESS=Arlington Heights United Methodist Church 4200 Camp Bowie Boulevard Fort Worth TX 76107 United States;X-APPLE-RADIUS=500;X-TITLE=4200 Camp Bowie Boulevard:geo:-97.3805465,32.7438199
END:VEVENT
BEGIN:VEVENT
DTSTART;TZID=America/Chicago:20251115T090000
DTEND;TZID=America/Chicago:20251115T150000
DTSTAMP:20260422T200936
CREATED:20251020T013307Z
LAST-MODIFIED:20251020T013307Z
UID:10001948-1763197200-1763218800@dfwcrafts.com
SUMMARY:Collinsville Fall Festival
DESCRIPTION:Collinsville High School located in Collinsville\, TX is setting up for a one-stop shop of fall fun!
URL:https://dfwcrafts.com/event/collinsville-fall-festival/
LOCATION:Collinsville High School\, 202 N. Broadway St.\, Collinsville\, TX\, 76233\, United States
CATEGORIES:General Arts & Crafts
GEO:33.562016;-96.9042604
X-APPLE-STRUCTURED-LOCATION;VALUE=URI;X-ADDRESS=Collinsville High School 202 N. Broadway St. Collinsville TX 76233 United States;X-APPLE-RADIUS=500;X-TITLE=202 N. Broadway St.:geo:-96.9042604,33.562016
END:VEVENT
BEGIN:VEVENT
DTSTART;TZID=America/Chicago:20251115T090000
DTEND;TZID=America/Chicago:20251115T160000
DTSTAMP:20260422T200936
CREATED:20250902T042222Z
LAST-MODIFIED:20250902T042251Z
UID:10001858-1763197200-1763222400@dfwcrafts.com
SUMMARY:Summit Band Boosters Craft Fest
DESCRIPTION:🎄🎨✨ Get Ready for the 2025 Craft Fest! ✨🎨🎄\nHosted by the Summit High School Band Boosters \nJoin us for a festive day of shopping\, food\, and fun! With over 100 talented local vendors offering handcrafted goods\, there’s something for everyone—just in time for the holidays. Enjoy delicious eats\, live entertainment\, and a special appearance by Santa Claus himself! \n📅 Date: November 15\, 2025\n📍 Location: Inside Summit High School\n🎟️ Admission: $5 (Kids 12 & under are FREE!) \nDon’t miss this one-of-a-kind community celebration!
URL:https://dfwcrafts.com/event/summit-craft-fest/
LOCATION:Summit High School\, 1071 Turner Warnell Road\, Arlington\, TX\, 76001\, United States
CATEGORIES:General Arts & Crafts
ATTACH;FMTTYPE=image/jpeg:https://dfwcrafts.com/wp-content/uploads/2025/09/Craft-Fest-2025-11x14-1-scaled-Opt.jpg
GEO:32.6138862;-97.1301429
X-APPLE-STRUCTURED-LOCATION;VALUE=URI;X-ADDRESS=Summit High School 1071 Turner Warnell Road Arlington TX 76001 United States;X-APPLE-RADIUS=500;X-TITLE=1071 Turner Warnell Road:geo:-97.1301429,32.6138862
END:VEVENT
BEGIN:VEVENT
DTSTART;TZID=America/Chicago:20251115T090000
DTEND;TZID=America/Chicago:20251115T160000
DTSTAMP:20260422T200936
CREATED:20250911T030510Z
LAST-MODIFIED:20250911T030726Z
UID:10001869-1763197200-1763222400@dfwcrafts.com
SUMMARY:Hometown Christmas Craft Show
DESCRIPTION:It’s that time of year again! Come on out and join us on Saturday\, November 15th 2025 from 9am-4pm at the Midlothian Conference Center for the 9th Annual Hometown Christmas! There will be vendors\, holiday music\, 1000s of hand crafted gift items\, delicious holiday treats\, FREE drawings and prizes! \nKids 12 and under and military with ID are FREE \n*FREE PARKING*
URL:https://dfwcrafts.com/event/hometown-christmas-craft-show/
LOCATION:Midlothian Conference Center\, 1 Community Circle Dr.\, Midlothian\, TX\, 76065\, United States
CATEGORIES:General Arts & Crafts
ATTACH;FMTTYPE=image/jpeg:https://dfwcrafts.com/wp-content/uploads/2025/09/Hometown-3-Opt.jpg
GEO:32.4625519;-96.9837525
X-APPLE-STRUCTURED-LOCATION;VALUE=URI;X-ADDRESS=Midlothian Conference Center 1 Community Circle Dr. Midlothian TX 76065 United States;X-APPLE-RADIUS=500;X-TITLE=1 Community Circle Dr.:geo:-96.9837525,32.4625519
END:VEVENT
BEGIN:VEVENT
DTSTART;TZID=America/Chicago:20251115T100000
DTEND;TZID=America/Chicago:20251115T140000
DTSTAMP:20260422T200936
CREATED:20250928T044715Z
LAST-MODIFIED:20250928T044715Z
UID:10001896-1763200800-1763215200@dfwcrafts.com
SUMMARY:LWBC Craft/Vendor Fair
DESCRIPTION:Come shop with all our talented crafters before the craziness of the holidays start. Come with an empty stomach to try some of our food vendors as well… there will be a bounce house and face paint for the kiddos. \n🚨‼️ 🎅 🎄 SANTA CLAUS WILL BE JOINING US FROM 11am-12 come take pictures with him!! ‼️‼️🚨 \nJOIN US IN SUPPORT OF OUR YOUTH!!
URL:https://dfwcrafts.com/event/lwbc-craft-fair/
LOCATION:Lake Worth Baptist Church\, 4445 Hodgkins Rd\, Lake Worth\, TX\, 76135\, United States
CATEGORIES:General Arts & Crafts
ATTACH;FMTTYPE=image/jpeg:https://dfwcrafts.com/wp-content/uploads/2025/09/LWBC_2025-Opt.jpg
GEO:32.8212265;-97.4395721
X-APPLE-STRUCTURED-LOCATION;VALUE=URI;X-ADDRESS=Lake Worth Baptist Church 4445 Hodgkins Rd Lake Worth TX 76135 United States;X-APPLE-RADIUS=500;X-TITLE=4445 Hodgkins Rd:geo:-97.4395721,32.8212265
END:VEVENT
BEGIN:VEVENT
DTSTART;TZID=America/Chicago:20251115T100000
DTEND;TZID=America/Chicago:20251115T150000
DTSTAMP:20260422T200936
CREATED:20250923T215624Z
LAST-MODIFIED:20250923T215624Z
UID:10001887-1763200800-1763218800@dfwcrafts.com
SUMMARY:The Market at WPCFW
DESCRIPTION:The Market at WPCFW invites you to our 11th annual craft fair. Come out and get started on your holiday shopping and enjoy a variety of vendors\, concessions\, raffles throughout the day and more.  Proceeds from The Market will be used as donations to local and international missions.
URL:https://dfwcrafts.com/event/the-market-at-wpcfw/
LOCATION:Westminster Presbyterian Church\, 7001 Trail Lake Drive\, Fort Worth\, TX\, 76133\, United States
CATEGORIES:General Arts & Crafts
ATTACH;FMTTYPE=image/jpeg:https://dfwcrafts.com/wp-content/uploads/2025/09/The-Market.jpg
GEO:32.6446575;-97.4014274
X-APPLE-STRUCTURED-LOCATION;VALUE=URI;X-ADDRESS=Westminster Presbyterian Church 7001 Trail Lake Drive Fort Worth TX 76133 United States;X-APPLE-RADIUS=500;X-TITLE=7001 Trail Lake Drive:geo:-97.4014274,32.6446575
END:VEVENT
BEGIN:VEVENT
DTSTART;TZID=America/Chicago:20251115T100000
DTEND;TZID=America/Chicago:20251115T160000
DTSTAMP:20260422T200936
CREATED:20250907T224605Z
LAST-MODIFIED:20250907T224605Z
UID:10001861-1763200800-1763222400@dfwcrafts.com
SUMMARY:Abiding Faith 2nd Annual Fall Craft Fair
DESCRIPTION:Come join us for the Abiding Faith 2nd Annual Fall Craft Fair on Saturday\, November 15\, 2025! 🎉 \nThis fun outdoor event runs from 10 AM – 4 PM and will showcase 100+ vendors with unique handmade goods\, seasonal finds\, and gifts. \n✨ Highlights include:\n• Door prizes throughout the day\n• Delicious treats from booths & food trucks\n• A playground area for the kids \nBring the family\, shop local\, and kick off the holiday season with us—we can’t wait to see you there! 🍂🛍️
URL:https://dfwcrafts.com/event/abiding-faith-fall-craft-fair/
LOCATION:Abiding Faith Lutheran Church\, 3409 Charleston Ave\, Fort Worth\, TX\, 76123\, United States
CATEGORIES:General Arts & Crafts
ATTACH;FMTTYPE=image/jpeg:https://dfwcrafts.com/wp-content/uploads/2025/09/Abiding-Faith-Craft-Fair-2nd-Annual.jpg
GEO:32.6181247;-97.3692795
X-APPLE-STRUCTURED-LOCATION;VALUE=URI;X-ADDRESS=Abiding Faith Lutheran Church 3409 Charleston Ave Fort Worth TX 76123 United States;X-APPLE-RADIUS=500;X-TITLE=3409 Charleston Ave:geo:-97.3692795,32.6181247
END:VEVENT
BEGIN:VEVENT
DTSTART;TZID=America/Chicago:20251115T100000
DTEND;TZID=America/Chicago:20251115T180000
DTSTAMP:20260422T200936
CREATED:20250907T223242Z
LAST-MODIFIED:20260128T040648Z
UID:10001860-1763200800-1763229600@dfwcrafts.com
SUMMARY:Lake Granbury Holiday Indoor & Outdoor Market
DESCRIPTION:🎄 Lake Granbury Indoor/Outdoor Holiday Market 🎄 \n📅 Date: Saturday\, November 15th\, 2025\n🕙 Time: 10 AM – 6 PM\n📍 Location: Lake Granbury Conference Center\n621 E Pearl St\, Granbury\, TX 76048 \n✨ Join us for a magical holiday shopping experience! ✨ \nCelebrate the season with a family-friendly day of shopping\, community\, and holiday cheer at the Lake Granbury Indoor/Outdoor Holiday Market! This festive event brings together incredible local artisans\, food trucks\, live entertainment\, and so much more — all set against the beautiful backdrop of Lake Granbury. \n🎅 FREE Photos with Santa: 2 PM – 5 PM\n(FREE / Open to the public!) \nWhat to Expect:\nUnique vendors & handcrafted goods\nFood trucks & holiday treats\nLive music & entertainment all day\n10:00 AM 12:30 PM ???\n12:45 PM 3:15 PM Edwina Gray\n3:30 PM 6:00 PM ???\nFREE Santa pictures from 25 PM\nFestive atmosphere perfect for the whole family! \nLet’s make this holiday season merry & bright — together! ❄️🎄
URL:https://dfwcrafts.com/event/lake-granbury-holiday-market/
LOCATION:​Lake Granbury Conference Center\, 621 E Pearl Street\, Granbury\, TX\, 76048\, United States
CATEGORIES:General Arts & Crafts
ATTACH;FMTTYPE=image/jpeg:https://dfwcrafts.com/wp-content/uploads/2025/09/CC-Lake-Granbury-Flyer-Opt.jpg
GEO:32.4410648;-97.7796625
X-APPLE-STRUCTURED-LOCATION;VALUE=URI;X-ADDRESS=​Lake Granbury Conference Center 621 E Pearl Street Granbury TX 76048 United States;X-APPLE-RADIUS=500;X-TITLE=621 E Pearl Street:geo:-97.7796625,32.4410648
END:VEVENT
BEGIN:VEVENT
DTSTART;TZID=America/Chicago:20251115T100000
DTEND;TZID=America/Chicago:20251116T140000
DTSTAMP:20260422T200936
CREATED:20250928T050249Z
LAST-MODIFIED:20250928T202344Z
UID:10001897-1763200800-1763301600@dfwcrafts.com
SUMMARY:St. Michael Archangel Catholic Church Garland 6th Annual Craft Bazaar
DESCRIPTION:St Michael Archangel Catholic Church in Garland is hosting our 6th annual Craft Bazaar! \nOur craft Bazaar will be hosted inside the church in our Curran Hall! \nWe host this event with our Craft Group +30 vendors. So come out and get started on your holiday shopping and enjoy a variety of vendors\, entertainment by children’s chorus\, delicious food\, door prizes and more.
URL:https://dfwcrafts.com/event/st-michael-fall-bazaar-craft-show/
LOCATION:St. Michael the Archangel Catholic Church – Curran Hall\, 950 Trails Parkway\, Garland\, TX\, 75043\, United States
CATEGORIES:General Arts & Crafts
ATTACH;FMTTYPE=image/jpeg:https://dfwcrafts.com/wp-content/uploads/2025/09/st-michael-craft-bazaar-2025-Opt.jpg
GEO:32.8399697;-96.6168867
X-APPLE-STRUCTURED-LOCATION;VALUE=URI;X-ADDRESS=St. Michael the Archangel Catholic Church – Curran Hall 950 Trails Parkway Garland TX 75043 United States;X-APPLE-RADIUS=500;X-TITLE=950 Trails Parkway:geo:-96.6168867,32.8399697
END:VEVENT
BEGIN:VEVENT
DTSTART;TZID=America/Chicago:20251115T130000
DTEND;TZID=America/Chicago:20251115T160000
DTSTAMP:20260422T200936
CREATED:20251026T042025Z
LAST-MODIFIED:20251026T042025Z
UID:10001953-1763211600-1763222400@dfwcrafts.com
SUMMARY:Frisco Lakes Sip & Shop
DESCRIPTION:Shop for all of your holiday gifts and support local crafters\, artisans\, makers and vendors. Complimentary sips provided while you shop.
URL:https://dfwcrafts.com/event/sip-shop-2/
LOCATION:Frisco Lakes\, 7277 Frisco Lakes Drive\, Frisco\, TX\, 75036\, United States
CATEGORIES:General Arts & Crafts
GEO:33.1400596;-96.898762
X-APPLE-STRUCTURED-LOCATION;VALUE=URI;X-ADDRESS=Frisco Lakes 7277 Frisco Lakes Drive Frisco TX 75036 United States;X-APPLE-RADIUS=500;X-TITLE=7277 Frisco Lakes Drive:geo:-96.898762,33.1400596
END:VEVENT
BEGIN:VEVENT
DTSTART;TZID=America/Chicago:20251115T130000
DTEND;TZID=America/Chicago:20251115T170000
DTSTAMP:20260422T200936
CREATED:20250727T214842Z
LAST-MODIFIED:20250727T214842Z
UID:10001814-1763211600-1763226000@dfwcrafts.com
SUMMARY:Merry Market at the Ranch
DESCRIPTION:Sip\, Shop\, and See Alpacas! Yes…we are an alpaca ranch with a wedding venue and Merry Market at the Ranch is returning again this holiday season! \nCome enjoy holiday shopping at the ranch with vendors inside our wedding venue\, La Vida at Harmony Ranch\, along with another indoor building and some outdoor vendors too! Coffee Truck\, Free Sip (21+)\, and so much more!
URL:https://dfwcrafts.com/event/merry-market/
LOCATION:La Vida at Harmony Ranch\, 3893 N Hwy 287\, Alvord\, TX\, 76225\, United States
CATEGORIES:General Arts & Crafts
GEO:33.3019065;-97.648628
X-APPLE-STRUCTURED-LOCATION;VALUE=URI;X-ADDRESS=La Vida at Harmony Ranch 3893 N Hwy 287 Alvord TX 76225 United States;X-APPLE-RADIUS=500;X-TITLE=3893 N Hwy 287:geo:-97.648628,33.3019065
END:VEVENT
END:VCALENDAR