BEGIN:VCALENDAR
VERSION:2.0
PRODID:-//DFW Craft Shows - ECPv6.15.17.1//NONSGML v1.0//EN
CALSCALE:GREGORIAN
METHOD:PUBLISH
X-ORIGINAL-URL:https://dfwcrafts.com
X-WR-CALDESC:Events for DFW Craft Shows
REFRESH-INTERVAL;VALUE=DURATION:PT1H
X-Robots-Tag:noindex
X-PUBLISHED-TTL:PT1H
BEGIN:VTIMEZONE
TZID:America/Chicago
BEGIN:DAYLIGHT
TZOFFSETFROM:-0600
TZOFFSETTO:-0500
TZNAME:CDT
DTSTART:20240310T080000
END:DAYLIGHT
BEGIN:STANDARD
TZOFFSETFROM:-0500
TZOFFSETTO:-0600
TZNAME:CST
DTSTART:20241103T070000
END:STANDARD
BEGIN:DAYLIGHT
TZOFFSETFROM:-0600
TZOFFSETTO:-0500
TZNAME:CDT
DTSTART:20250309T080000
END:DAYLIGHT
BEGIN:STANDARD
TZOFFSETFROM:-0500
TZOFFSETTO:-0600
TZNAME:CST
DTSTART:20251102T070000
END:STANDARD
BEGIN:DAYLIGHT
TZOFFSETFROM:-0600
TZOFFSETTO:-0500
TZNAME:CDT
DTSTART:20260308T080000
END:DAYLIGHT
BEGIN:STANDARD
TZOFFSETFROM:-0500
TZOFFSETTO:-0600
TZNAME:CST
DTSTART:20261101T070000
END:STANDARD
END:VTIMEZONE
BEGIN:VEVENT
DTSTART;TZID=America/Chicago:20251111T100000
DTEND;TZID=America/Chicago:20251111T180000
DTSTAMP:20260422T233246
CREATED:20251105T045700Z
LAST-MODIFIED:20251105T050002Z
UID:10001964-1762855200-1762884000@dfwcrafts.com
SUMMARY:Leather Workshop - Make your own tiny purse
DESCRIPTION:Come join us for a fun and creative leather workshop! Learn how to craft your very own coin purse from scratch. I\, Sena\, will be your instructor and will guide you through every step of the process — from cutting and stitching the leather to adding the finishing touches. No prior experience is necessary; this workshop is perfect for both beginners and seasoned crafters alike. Don’t miss this opportunity to create something unique with your own hands. Grab a friend and sign up today! \nNovember 11 sign up is here.
URL:https://dfwcrafts.com/event/leather-workshop/
LOCATION:MOTW Coffee and Pastries\, 4013 14th St Unit 407\, Plano\, TX\, 75074\, United States
CATEGORIES:Handmade Only
GEO:33.0153996;-96.655827
X-APPLE-STRUCTURED-LOCATION;VALUE=URI;X-ADDRESS=MOTW Coffee and Pastries 4013 14th St Unit 407 Plano TX 75074 United States;X-APPLE-RADIUS=500;X-TITLE=4013 14th St Unit 407:geo:-96.655827,33.0153996
END:VEVENT
END:VCALENDAR