BEGIN:VCALENDAR
VERSION:2.0
PRODID:-//DFW Craft Shows - ECPv6.15.17.1//NONSGML v1.0//EN
CALSCALE:GREGORIAN
METHOD:PUBLISH
X-ORIGINAL-URL:https://dfwcrafts.com
X-WR-CALDESC:Events for DFW Craft Shows
REFRESH-INTERVAL;VALUE=DURATION:PT1H
X-Robots-Tag:noindex
X-PUBLISHED-TTL:PT1H
BEGIN:VTIMEZONE
TZID:America/Chicago
BEGIN:DAYLIGHT
TZOFFSETFROM:-0600
TZOFFSETTO:-0500
TZNAME:CDT
DTSTART:20240310T080000
END:DAYLIGHT
BEGIN:STANDARD
TZOFFSETFROM:-0500
TZOFFSETTO:-0600
TZNAME:CST
DTSTART:20241103T070000
END:STANDARD
BEGIN:DAYLIGHT
TZOFFSETFROM:-0600
TZOFFSETTO:-0500
TZNAME:CDT
DTSTART:20250309T080000
END:DAYLIGHT
BEGIN:STANDARD
TZOFFSETFROM:-0500
TZOFFSETTO:-0600
TZNAME:CST
DTSTART:20251102T070000
END:STANDARD
BEGIN:DAYLIGHT
TZOFFSETFROM:-0600
TZOFFSETTO:-0500
TZNAME:CDT
DTSTART:20260308T080000
END:DAYLIGHT
BEGIN:STANDARD
TZOFFSETFROM:-0500
TZOFFSETTO:-0600
TZNAME:CST
DTSTART:20261101T070000
END:STANDARD
END:VTIMEZONE
BEGIN:VEVENT
DTSTART;TZID=America/Chicago:20251106T180000
DTEND;TZID=America/Chicago:20251109T160000
DTSTAMP:20260422T232827
CREATED:20251104T154435Z
LAST-MODIFIED:20251105T051459Z
UID:10001963-1762452000-1762704000@dfwcrafts.com
SUMMARY:Craft Guild of Dallas - Fall Show & Sale
DESCRIPTION:Craft Guild of Dallas – Fall Show & Sale \n*** Thurs/Nov 6 – Sun/Nov 9 *** \nFeatures local artists work in clay\, jewelry\, glass\, woodworking\, bookbinding\, etc.
URL:https://dfwcrafts.com/event/contemporary-crafts-fine-art-show-sale/
LOCATION:Craft Guild of Dallas\, 3410 Midcourt Rd.\, Carrollton\, TX\, 75006\, United States
CATEGORIES:Handmade Only
ATTACH;FMTTYPE=image/jpeg:https://dfwcrafts.com/wp-content/uploads/2025/11/Fall-Show-2025-5-Opt.jpg
GEO:32.9628264;-96.8429726
X-APPLE-STRUCTURED-LOCATION;VALUE=URI;X-ADDRESS=Craft Guild of Dallas 3410 Midcourt Rd. Carrollton TX 75006 United States;X-APPLE-RADIUS=500;X-TITLE=3410 Midcourt Rd.:geo:-96.8429726,32.9628264
END:VEVENT
BEGIN:VEVENT
DTSTART;TZID=America/Chicago:20251108T090000
DTEND;TZID=America/Chicago:20251109T160000
DTSTAMP:20260422T232827
CREATED:20250822T035602Z
LAST-MODIFIED:20250822T035602Z
UID:10001849-1762592400-1762704000@dfwcrafts.com
SUMMARY:Southlake Carroll Craft Fair
DESCRIPTION:A two day\, one stop holiday shopping experience featuring over 150 vendors.
URL:https://dfwcrafts.com/event/southlake-carroll-craft-fair/
LOCATION:Southlake Carroll High School\, 1501 W. Southlake Blvd\, Southlake\, TX\, 76092\, United States
CATEGORIES:General Arts & Crafts
GEO:32.9399816;-97.1751537
X-APPLE-STRUCTURED-LOCATION;VALUE=URI;X-ADDRESS=Southlake Carroll High School 1501 W. Southlake Blvd Southlake TX 76092 United States;X-APPLE-RADIUS=500;X-TITLE=1501 W. Southlake Blvd:geo:-97.1751537,32.9399816
END:VEVENT
BEGIN:VEVENT
DTSTART;TZID=America/Chicago:20251108T090000
DTEND;TZID=America/Chicago:20251109T160000
DTSTAMP:20260422T232827
CREATED:20250827T042545Z
LAST-MODIFIED:20250827T042545Z
UID:10001852-1762592400-1762704000@dfwcrafts.com
SUMMARY:Market in the Meadow
DESCRIPTION:Market in the Meadow is a community shopping event that has run for decades but due to Covid\, construction and the addition of 6th grade has been cancelled the past five years. We are SO excited to bring it back this fall!! \nThis event is Forest Meadow Middle School’s biggest fundraiser with all proceeds going directly back to the school. With the money\, Forest Meadow is able to bridge the gap between what the state provides and the staff and student resources necessary for all to thrive in 2025! \nNot only does the market have amazing shopping for the community but also draws the community in with entertainment all day via a variety of local and high school performance groups. \nWe will also have the SPCA of Dallas there on Saturday with a news crew! And our vendor hospitality is legendary with complimentary hospitality rooms filled with beverages and snacks.
URL:https://dfwcrafts.com/event/market-in-the-meadow/
LOCATION:Forest Meadow Middle School\, 9373 Whitehurst Drive\, Dallas\, TX\, 75243\, United States
CATEGORIES:General Arts & Crafts
ATTACH;FMTTYPE=image/jpeg:https://dfwcrafts.com/wp-content/uploads/2025/08/Market-in-the-Meadow-Flyer-Opt.jpg
GEO:32.9011948;-96.7400188
X-APPLE-STRUCTURED-LOCATION;VALUE=URI;X-ADDRESS=Forest Meadow Middle School 9373 Whitehurst Drive Dallas TX 75243 United States;X-APPLE-RADIUS=500;X-TITLE=9373 Whitehurst Drive:geo:-96.7400188,32.9011948
END:VEVENT
BEGIN:VEVENT
DTSTART;TZID=America/Chicago:20251108T090000
DTEND;TZID=America/Chicago:20251109T170000
DTSTAMP:20260422T232827
CREATED:20250923T221513Z
LAST-MODIFIED:20250923T221513Z
UID:10001890-1762592400-1762707600@dfwcrafts.com
SUMMARY:Central Highschool Lightning Dancers Craft Show
DESCRIPTION:Come shop 175+ vendors\, enjoy performances\, visit Santaland 🎅\, grab delicious food & drinks\, and get in on drawings + the silent auction. \nMark your calendars and bring a friend — it’s the perfect way to kick off the holiday season while supporting the Central High School Lightning Dancers.
URL:https://dfwcrafts.com/event/lightning-dancers-annual-craft-show/
LOCATION:Keller Central High School\, 9450 Ray White Road\, Fort Worth\, TX\, 76244\, United States
CATEGORIES:General Arts & Crafts
GEO:32.9090686;-97.2676595
X-APPLE-STRUCTURED-LOCATION;VALUE=URI;X-ADDRESS=Keller Central High School 9450 Ray White Road Fort Worth TX 76244 United States;X-APPLE-RADIUS=500;X-TITLE=9450 Ray White Road:geo:-97.2676595,32.9090686
END:VEVENT
BEGIN:VEVENT
DTSTART;TZID=America/Chicago:20251109T110000
DTEND;TZID=America/Chicago:20251109T160000
DTSTAMP:20260422T232827
CREATED:20250917T035159Z
LAST-MODIFIED:20250921T185242Z
UID:10001878-1762686000-1762704000@dfwcrafts.com
SUMMARY:Coppell Holiday House
DESCRIPTION:Celebrate the season and shop small at the 30th Annual Coppell Holiday House Gift Market! \nJoin us for a festive day of handcrafted goods\, artisanal treats\, and one-of-a-kind gifts perfect for everyone on your list. From homemade jams and baked goods to handmade jewelry\, seasonal décor\, and unique artisan finds\, you’ll discover something special at every booth. \n🎁 Featuring:\n• Artisanal foods & gourmet goodies\n• Handcrafted jewelry & accessories\n• Unique home décor & holiday items\n• Gifts you won’t find anywhere else]\n• Live musical performances to celebrate the time of year while you shop! \nThis beloved community event supports the CHS Senior Picnic\, so every purchase makes a difference. \n✨ Admission is $5 for each attendee – bring your friends\, your family\, and your holiday spirit!
URL:https://dfwcrafts.com/event/coppell-holiday-house/
LOCATION:Coppell High School\, 185 W Parkway Blvd\, Coppell\, TX\, 75019\, United States
CATEGORIES:General Arts & Crafts
ATTACH;FMTTYPE=image/jpeg:https://dfwcrafts.com/wp-content/uploads/2025/09/250827-holidayhouse-opt.jpg
GEO:32.9749966;-96.9984383
X-APPLE-STRUCTURED-LOCATION;VALUE=URI;X-ADDRESS=Coppell High School 185 W Parkway Blvd Coppell TX 75019 United States;X-APPLE-RADIUS=500;X-TITLE=185 W Parkway Blvd:geo:-96.9984383,32.9749966
END:VEVENT
END:VCALENDAR