BEGIN:VCALENDAR
VERSION:2.0
PRODID:-//DFW Craft Shows - ECPv6.15.17.1//NONSGML v1.0//EN
CALSCALE:GREGORIAN
METHOD:PUBLISH
X-WR-CALNAME:DFW Craft Shows
X-ORIGINAL-URL:https://dfwcrafts.com
X-WR-CALDESC:Events for DFW Craft Shows
REFRESH-INTERVAL;VALUE=DURATION:PT1H
X-Robots-Tag:noindex
X-PUBLISHED-TTL:PT1H
BEGIN:VTIMEZONE
TZID:America/Chicago
BEGIN:DAYLIGHT
TZOFFSETFROM:-0600
TZOFFSETTO:-0500
TZNAME:CDT
DTSTART:20240310T080000
END:DAYLIGHT
BEGIN:STANDARD
TZOFFSETFROM:-0500
TZOFFSETTO:-0600
TZNAME:CST
DTSTART:20241103T070000
END:STANDARD
BEGIN:DAYLIGHT
TZOFFSETFROM:-0600
TZOFFSETTO:-0500
TZNAME:CDT
DTSTART:20250309T080000
END:DAYLIGHT
BEGIN:STANDARD
TZOFFSETFROM:-0500
TZOFFSETTO:-0600
TZNAME:CST
DTSTART:20251102T070000
END:STANDARD
BEGIN:DAYLIGHT
TZOFFSETFROM:-0600
TZOFFSETTO:-0500
TZNAME:CDT
DTSTART:20260308T080000
END:DAYLIGHT
BEGIN:STANDARD
TZOFFSETFROM:-0500
TZOFFSETTO:-0600
TZNAME:CST
DTSTART:20261101T070000
END:STANDARD
END:VTIMEZONE
BEGIN:VEVENT
DTSTART;TZID=America/Chicago:20251106T180000
DTEND;TZID=America/Chicago:20251109T160000
DTSTAMP:20260423T025223
CREATED:20251104T154435Z
LAST-MODIFIED:20251105T051459Z
UID:10001963-1762452000-1762704000@dfwcrafts.com
SUMMARY:Craft Guild of Dallas - Fall Show & Sale
DESCRIPTION:Craft Guild of Dallas – Fall Show & Sale \n*** Thurs/Nov 6 – Sun/Nov 9 *** \nFeatures local artists work in clay\, jewelry\, glass\, woodworking\, bookbinding\, etc.
URL:https://dfwcrafts.com/event/contemporary-crafts-fine-art-show-sale/
LOCATION:Craft Guild of Dallas\, 3410 Midcourt Rd.\, Carrollton\, TX\, 75006\, United States
CATEGORIES:Handmade Only
ATTACH;FMTTYPE=image/jpeg:https://dfwcrafts.com/wp-content/uploads/2025/11/Fall-Show-2025-5-Opt.jpg
GEO:32.9628264;-96.8429726
X-APPLE-STRUCTURED-LOCATION;VALUE=URI;X-ADDRESS=Craft Guild of Dallas 3410 Midcourt Rd. Carrollton TX 75006 United States;X-APPLE-RADIUS=500;X-TITLE=3410 Midcourt Rd.:geo:-96.8429726,32.9628264
END:VEVENT
BEGIN:VEVENT
DTSTART;TZID=America/Chicago:20251107T180000
DTEND;TZID=America/Chicago:20251107T210000
DTSTAMP:20260423T025223
CREATED:20250930T042342Z
LAST-MODIFIED:20250930T042413Z
UID:10001908-1762538400-1762549200@dfwcrafts.com
SUMMARY:Twilight Treasures Artisan Farmers Market - Nov
DESCRIPTION:Experience the charm of small businesses! Join us the first Friday of each month\, for an evening of handcrafted treasures\, farm-fresh flavors\, and creative local artisans. Bring your friends\, family\, and besties to this unforgettable twilight event\, featuring food trucks\, live music\, and so much more.
URL:https://dfwcrafts.com/event/mtc-merchant-fairs-2/
LOCATION:The Creative Gathering\, 278 Main St\, Lake Dallas\, TX\, 75065\, United States
CATEGORIES:Handmade Only
GEO:33.1190983;-97.0263821
X-APPLE-STRUCTURED-LOCATION;VALUE=URI;X-ADDRESS=The Creative Gathering 278 Main St Lake Dallas TX 75065 United States;X-APPLE-RADIUS=500;X-TITLE=278 Main St:geo:-97.0263821,33.1190983
END:VEVENT
END:VCALENDAR